BEGIN:VCALENDAR
VERSION:2.0
PRODID:-// - ECPv6.15.20//NONSGML v1.0//EN
CALSCALE:GREGORIAN
METHOD:PUBLISH
X-ORIGINAL-URL:https://ashleyandsimpson.com
X-WR-CALDESC:Events for 
REFRESH-INTERVAL;VALUE=DURATION:PT1H
X-Robots-Tag:noindex
X-PUBLISHED-TTL:PT1H
BEGIN:VTIMEZONE
TZID:UTC
BEGIN:STANDARD
TZOFFSETFROM:+0000
TZOFFSETTO:+0000
TZNAME:UTC
DTSTART:20220101T000000
END:STANDARD
END:VTIMEZONE
BEGIN:VEVENT
DTSTART;TZID=UTC:20251005T150000
DTEND;TZID=UTC:20251005T170000
DTSTAMP:20260423T074454
CREATED:20251002T171243Z
LAST-MODIFIED:20251002T171243Z
UID:2535-1759676400-1759683600@ashleyandsimpson.com
SUMMARY:Ashley & Simpson at Two Way Street Coffee House
DESCRIPTION:
URL:https://ashleyandsimpson.com/event/ashley-simpson-at-two-way-street-coffee-house-4/
LOCATION:Two Way Street Coffee House\, 1047 Curtiss St.\, Downers Grove\, IL\, 60515
ATTACH;FMTTYPE=image/png:https://ashleyandsimpson.com/wp-content/uploads/2025/10/HMS-100525.png
END:VEVENT
BEGIN:VEVENT
DTSTART;TZID=UTC:20250929T040000
DTEND;TZID=UTC:20250929T200000
DTSTAMP:20260423T074454
CREATED:20251002T171019Z
LAST-MODIFIED:20251002T171019Z
UID:2532-1759118400-1759176000@ashleyandsimpson.com
SUMMARY:Ashley & Simpson Private Event
DESCRIPTION:
URL:https://ashleyandsimpson.com/event/ashley-simpson-private-event-6/
LOCATION:IL
ATTACH;FMTTYPE=image/png:https://ashleyandsimpson.com/wp-content/uploads/2025/10/Artboard-1.png
END:VEVENT
BEGIN:VEVENT
DTSTART;TZID=UTC:20250816T190000
DTEND;TZID=UTC:20250816T210000
DTSTAMP:20260423T074454
CREATED:20250714T205512Z
LAST-MODIFIED:20251002T170508Z
UID:2502-1755370800-1755378000@ashleyandsimpson.com
SUMMARY:Ashley & Simpson at Hickory Ridge Concerts
DESCRIPTION:
URL:https://ashleyandsimpson.com/event/ashley-simpson-at-hickory-ridge-concerts/
LOCATION:Hickory Ridge Concerts\, 140 Main Street\, Ellisville\, IL\, United States
ATTACH;FMTTYPE=image/png:https://ashleyandsimpson.com/wp-content/uploads/2025/07/Hickory-Ridge-081625.png
END:VEVENT
BEGIN:VEVENT
DTSTART;TZID=UTC:20250629T150000
DTEND;TZID=UTC:20250629T170000
DTSTAMP:20260423T074454
CREATED:20251002T170422Z
LAST-MODIFIED:20251002T170422Z
UID:2530-1751209200-1751216400@ashleyandsimpson.com
SUMMARY:Ashley & Simpson at Two Way Street Coffee House
DESCRIPTION:
URL:https://ashleyandsimpson.com/event/ashley-simpson-at-two-way-street-coffee-house-3/
LOCATION:Two Way Street Coffee House\, 1047 Curtiss St.\, Downers Grove\, IL\, 60515
ATTACH;FMTTYPE=image/png:https://ashleyandsimpson.com/wp-content/uploads/2025/10/Heritage-Matinee_062925.png
END:VEVENT
BEGIN:VEVENT
DTSTART;TZID=UTC:20250620T050000
DTEND;TZID=UTC:20250620T210000
DTSTAMP:20260423T074454
CREATED:20250714T205629Z
LAST-MODIFIED:20250714T205629Z
UID:2505-1750395600-1750453200@ashleyandsimpson.com
SUMMARY:Ashley & Simpson Private Event
DESCRIPTION:
URL:https://ashleyandsimpson.com/event/ashley-simpson-private-event-4/
LOCATION:IL
ATTACH;FMTTYPE=image/png:https://ashleyandsimpson.com/wp-content/uploads/2025/07/Private-Event-2025.png
END:VEVENT
BEGIN:VEVENT
DTSTART;TZID=UTC:20250606T170000
DTEND;TZID=UTC:20250606T220000
DTSTAMP:20260423T074454
CREATED:20250714T205803Z
LAST-MODIFIED:20250714T205803Z
UID:2508-1749229200-1749247200@ashleyandsimpson.com
SUMMARY:Ashley & Simpson Private Event
DESCRIPTION:
URL:https://ashleyandsimpson.com/event/ashley-simpson-private-event-5/
LOCATION:IL
ATTACH;FMTTYPE=image/png:https://ashleyandsimpson.com/wp-content/uploads/2025/07/Private-Event-2025-2.png
END:VEVENT
BEGIN:VEVENT
DTSTART;TZID=UTC:20250413T190000
DTEND;TZID=UTC:20250413T210000
DTSTAMP:20260423T074454
CREATED:20250410T203718Z
LAST-MODIFIED:20250411T012345Z
UID:2488-1744570800-1744578000@ashleyandsimpson.com
SUMMARY:Ashley & Simpson at Lake County Folk Club
DESCRIPTION:
URL:https://ashleyandsimpson.com/event/ashley-simpson-at-lake-county-folk-club-2/
LOCATION:Lake County Folk Club\, 10 Seymour Ave\, Grayslake\, IL\, 60030\, United States
ATTACH;FMTTYPE=image/png:https://ashleyandsimpson.com/wp-content/uploads/2025/04/Lake-County-041325.png
END:VEVENT
BEGIN:VEVENT
DTSTART;TZID=UTC:20250406T150000
DTEND;TZID=UTC:20250406T170000
DTSTAMP:20260423T074454
CREATED:20250410T203447Z
LAST-MODIFIED:20250410T203447Z
UID:2486-1743951600-1743958800@ashleyandsimpson.com
SUMMARY:Ashley & Simpson at Two Way Street Coffee House
DESCRIPTION:
URL:https://ashleyandsimpson.com/event/ashley-simpson-at-two-way-street-coffee-house-2/
LOCATION:Two Way Street Coffee House\, 1047 Curtiss St.\, Downers Grove\, IL\, 60515
ATTACH;FMTTYPE=image/png:https://ashleyandsimpson.com/wp-content/uploads/2025/04/Heritage-Matinee-040625-FB-Event.png
END:VEVENT
BEGIN:VEVENT
DTSTART;TZID=UTC:20231231T200000
DTEND;TZID=UTC:20231231T233000
DTSTAMP:20260423T074454
CREATED:20231214T215801Z
LAST-MODIFIED:20231214T215939Z
UID:2422-1704052800-1704065400@ashleyandsimpson.com
SUMMARY:Ashley & Simpson at Off Square Music
DESCRIPTION:
URL:https://ashleyandsimpson.com/event/ashley-simpson-at-off-square-music/
LOCATION:IL
ATTACH;FMTTYPE=image/png:https://ashleyandsimpson.com/wp-content/uploads/2023/12/Artboard-1.png
END:VEVENT
BEGIN:VEVENT
DTSTART;TZID=UTC:20231220T180000
DTEND;TZID=UTC:20231220T200000
DTSTAMP:20260423T074454
CREATED:20231214T215617Z
LAST-MODIFIED:20231214T215617Z
UID:2420-1703095200-1703102400@ashleyandsimpson.com
SUMMARY:Ashley & Simpson - Private Event
DESCRIPTION:
URL:https://ashleyandsimpson.com/event/ashley-simpson-private-event-3/
LOCATION:IL
ATTACH;FMTTYPE=image/jpeg:https://ashleyandsimpson.com/wp-content/uploads/2022/11/Private-Event_JPG-01-01.jpg
END:VEVENT
BEGIN:VEVENT
DTSTART;TZID=UTC:20231219T200000
DTEND;TZID=UTC:20231219T220000
DTSTAMP:20260423T074454
CREATED:20231214T215511Z
LAST-MODIFIED:20231214T215511Z
UID:2417-1703016000-1703023200@ashleyandsimpson.com
SUMMARY:Ashley & Simpson on WDCB's "Folk Festival"
DESCRIPTION:
URL:https://ashleyandsimpson.com/event/ashley-simpson-on-wdcbs-folk-festival/
LOCATION:IL
ATTACH;FMTTYPE=image/png:https://ashleyandsimpson.com/wp-content/uploads/2023/12/121923_WDCB-Holiday-Hoot.png
END:VEVENT
BEGIN:VEVENT
DTSTART;TZID=UTC:20231028T190000
DTEND;TZID=UTC:20231028T190000
DTSTAMP:20260423T074454
CREATED:20231025T192424Z
LAST-MODIFIED:20231025T192646Z
UID:2391-1698519600-1698519600@ashleyandsimpson.com
SUMMARY:Ashley & Simpson at Acoustic Renaissance Concert Series
DESCRIPTION:
URL:https://ashleyandsimpson.com/event/ashley-simpson-at-acoustic-renaissance-concert-series/
LOCATION:Acoustic Renaissance Concerts\, 11 Wet Maple Street\, Hinsdale\, IL\, 60521\, United States
ATTACH;FMTTYPE=image/jpeg:https://ashleyandsimpson.com/wp-content/uploads/2023/10/102823_Acoustic-Renaissance.jpg
END:VEVENT
BEGIN:VEVENT
DTSTART;TZID=UTC:20230923T190000
DTEND;TZID=UTC:20230923T210000
DTSTAMP:20260423T074454
CREATED:20230815T160334Z
LAST-MODIFIED:20230815T160334Z
UID:2374-1695495600-1695502800@ashleyandsimpson.com
SUMMARY:Ashley & Simpson at Concerts on the Creek
DESCRIPTION:
URL:https://ashleyandsimpson.com/event/ashley-simpson-at-concerts-on-the-creek/
LOCATION:Concerts on the Creek\, Rockford\, IL\, United States
ATTACH;FMTTYPE=image/jpeg:https://ashleyandsimpson.com/wp-content/uploads/2023/08/092323_Concerts-on-the-Creek.jpg
END:VEVENT
BEGIN:VEVENT
DTSTART;TZID=UTC:20230819T170000
DTEND;TZID=UTC:20230819T210000
DTSTAMP:20260423T074454
CREATED:20230815T160120Z
LAST-MODIFIED:20230815T160120Z
UID:2371-1692464400-1692478800@ashleyandsimpson.com
SUMMARY:Ashley & Simpson at Ravinia on Raymond
DESCRIPTION:
URL:https://ashleyandsimpson.com/event/ashley-simpson-at-ravinia-on-raymond/
LOCATION:Raymond Avenue\, Brookfield\, IL\, United States
ATTACH;FMTTYPE=image/jpeg:https://ashleyandsimpson.com/wp-content/uploads/2023/08/081923_Ravinia-on-Raymond.jpg
END:VEVENT
BEGIN:VEVENT
DTSTART;TZID=UTC:20230811T080000
DTEND;TZID=UTC:20230813T170000
DTSTAMP:20260423T074454
CREATED:20230815T155905Z
LAST-MODIFIED:20230815T155905Z
UID:2368-1691740800-1691946000@ashleyandsimpson.com
SUMMARY:Ashley & Simpson at the Sugar Island Music Fest
DESCRIPTION:
URL:https://ashleyandsimpson.com/event/ashley-simpson-at-the-sugar-island-music-fest/
LOCATION:Sugar Island\, Sugar Island\, MI\, United States
ATTACH;FMTTYPE=image/jpeg:https://ashleyandsimpson.com/wp-content/uploads/2023/08/081123_Sugar-Island.jpg
END:VEVENT
BEGIN:VEVENT
DTSTART;TZID=UTC:20230521T190000
DTEND;TZID=UTC:20230521T210000
DTSTAMP:20260423T074454
CREATED:20230316T185959Z
LAST-MODIFIED:20230316T190723Z
UID:2317-1684695600-1684702800@ashleyandsimpson.com
SUMMARY:Ashley & Simpson at Lake County Folk Club
DESCRIPTION:Join us at the Lake County Folk Club at 7pm on Saturday\, May 13\, 2023. Reserve your tickets here.
URL:https://ashleyandsimpson.com/event/ashley-simpson-at-lake-county-folk-club/
LOCATION:Grayslake Village Hall\, 10 Seymour\, Grayslake\, IL\, United States
ATTACH;FMTTYPE=image/jpeg:https://ashleyandsimpson.com/wp-content/uploads/2023/03/052123_Lake-County_JPG-e1678990544836.jpg
END:VEVENT
BEGIN:VEVENT
DTSTART;TZID=UTC:20230513T190000
DTEND;TZID=UTC:20230513T210000
DTSTAMP:20260423T074454
CREATED:20230316T185624Z
LAST-MODIFIED:20230316T190709Z
UID:2315-1684004400-1684011600@ashleyandsimpson.com
SUMMARY:Ashley & Simpson at Inscape Listening Room
DESCRIPTION:We are thrilled to be returning to the Inscape Listening Room in Rockford\, IL at 7pm on Saturday\, May 13\, 2023. Doors open at 6:00pm so you can arrive early\, claim your seat\, and shop the wonderful merchandise. The store will also remain open after the concert – until 9:00pm
URL:https://ashleyandsimpson.com/event/ashley-simpson-at-inscape-listening-room-2/
LOCATION:Inscape Collective\, 201 7th Street\, Rockford\, IL\, 61104\, United States
ATTACH;FMTTYPE=image/jpeg:https://ashleyandsimpson.com/wp-content/uploads/2023/03/051323_Inscape-Collective-e1678990296191.jpg
END:VEVENT
BEGIN:VEVENT
DTSTART;TZID=UTC:20230506T140000
DTEND;TZID=UTC:20230506T170000
DTSTAMP:20260423T074454
CREATED:20230316T185438Z
LAST-MODIFIED:20230316T185438Z
UID:2312-1683381600-1683392400@ashleyandsimpson.com
SUMMARY:Ashley & Simpson at Beltane/Spring Festival with February Sky
DESCRIPTION:Join us May 6\, 2023 at 2pm up in Milwaukee at the Belatane/Spring Festival. We will be joining our friends Febrary Sky and trading sets until 5pm!
URL:https://ashleyandsimpson.com/event/ashley-simpson-at-beltane-spring-festival-with-february-sky/
LOCATION:The Moose Lodge\, 5476 South 13th Street\, Milwaukee\, WI\, United States
ATTACH;FMTTYPE=image/jpeg:https://ashleyandsimpson.com/wp-content/uploads/2023/03/050623_Spring-Fest-Milwaukee_JPG-e1678988758558.jpg
END:VEVENT
BEGIN:VEVENT
DTSTART;TZID=UTC:20230506T120000
DTEND;TZID=UTC:20230506T130000
DTSTAMP:20260423T074454
CREATED:20230316T185243Z
LAST-MODIFIED:20230321T163842Z
UID:2309-1683374400-1683378000@ashleyandsimpson.com
SUMMARY:Ashley & Simpson at MayFest
DESCRIPTION:Join us May 6\, 2023 at 12pm as part of a great lineup for MayFest in Grayslake!
URL:https://ashleyandsimpson.com/event/ashley-simpson-at-mayfest/
LOCATION:Grayslake Heritage Center\, 064 Hawley Street\, Grayslake\, IL\, United States
ATTACH;FMTTYPE=image/jpeg:https://ashleyandsimpson.com/wp-content/uploads/2023/03/050623_MayFest-e1678988611394.jpg
END:VEVENT
BEGIN:VEVENT
DTSTART;TZID=UTC:20230422T130000
DTEND;TZID=UTC:20230422T160000
DTSTAMP:20260423T074454
CREATED:20230316T185020Z
LAST-MODIFIED:20230316T190609Z
UID:2307-1682168400-1682179200@ashleyandsimpson.com
SUMMARY:Ashley & Simpson at Inscape Listening Room--Earth Day Concert
DESCRIPTION:Join us April 22\, 2023 as we perform as part of a great lineup at the Inscape Collective Earth Day benefit concert!
URL:https://ashleyandsimpson.com/event/ashley-simpson-at-inscape-listening-room-earth-day-concert/
LOCATION:Inscape Collective\, 201 7th Street\, Rockford\, IL\, 61104\, United States
ATTACH;FMTTYPE=image/jpeg:https://ashleyandsimpson.com/wp-content/uploads/2023/03/042223_Inscape-Earth-Day_JPG-e1678988445660.jpg
END:VEVENT
BEGIN:VEVENT
DTSTART;TZID=UTC:20230417T190000
DTEND;TZID=UTC:20230417T190000
DTSTAMP:20260423T074454
CREATED:20230316T184637Z
LAST-MODIFIED:20230316T184849Z
UID:2304-1681758000-1681758000@ashleyandsimpson.com
SUMMARY:Ashley & Simpson at Oak Park Library
DESCRIPTION:Join us April 17\, 2023 at the Oak Park Library at 7 pm for some live music!
URL:https://ashleyandsimpson.com/event/ashley-simpson-at-oak-park-library/
LOCATION:Oak Park Library\, 834 Lake Street\, Oak Park\, IL\, United States
ATTACH;FMTTYPE=image/jpeg:https://ashleyandsimpson.com/wp-content/uploads/2023/03/041723_Oak-Park-Library_JPG-e1678988295177.jpg
END:VEVENT
BEGIN:VEVENT
DTSTART;TZID=UTC:20230416T140000
DTEND;TZID=UTC:20230416T140000
DTSTAMP:20260423T074454
CREATED:20230316T184223Z
LAST-MODIFIED:20230316T184335Z
UID:2300-1681653600-1681653600@ashleyandsimpson.com
SUMMARY:Ashley & Simpson at Woodridge Library
DESCRIPTION:Join us April 16\, 2023 at the Woodridge Library at 2pm for some classic country music! We will be playing all of our favorites–from Patsy Cline\, to Dolly Parton\, and Johnny and June!\nLink to register HERE.
URL:https://ashleyandsimpson.com/event/ashley-simpson-at-woodridge-library/
LOCATION:Woodridge Library\, 3 Plaza Drive\, Woodridge\, IL\, United States
ATTACH;FMTTYPE=image/jpeg:https://ashleyandsimpson.com/wp-content/uploads/2023/03/041623_Woodridge-Library_JPG.jpg
END:VEVENT
BEGIN:VEVENT
DTSTART;TZID=UTC:20230407T190000
DTEND;TZID=UTC:20230407T210000
DTSTAMP:20260423T074454
CREATED:20230316T184115Z
LAST-MODIFIED:20230316T190448Z
UID:2297-1680894000-1680901200@ashleyandsimpson.com
SUMMARY:Ashley & Simpson at Wesley's Place
DESCRIPTION:We are excited to be back at Wesley’s Place in La Grange! Join us April 7\, 2023 at 7pm for some live music! Doors open at 6:30. Suggested donation $15. Get your tickets HERE.
URL:https://ashleyandsimpson.com/event/ashley-simpson-at-wesleys-place/
LOCATION:Wesley’s Place\, 100 W Cossitt\, LaGrange\, IL\, United States
ATTACH;FMTTYPE=image/jpeg:https://ashleyandsimpson.com/wp-content/uploads/2023/03/040723_Wesleys-Place-e1678987917693.jpg
END:VEVENT
BEGIN:VEVENT
DTSTART;TZID=UTC:20230331T200000
DTEND;TZID=UTC:20230331T230000
DTSTAMP:20260423T074454
CREATED:20230316T183633Z
LAST-MODIFIED:20230316T190402Z
UID:2294-1680292800-1680303600@ashleyandsimpson.com
SUMMARY:Ashley & Simpson at Golden Dagger with Haiku Milieu
DESCRIPTION:We are over the moon to be a part of Jenny Bienemann’s Haiku Milieu at the Golden Dagger! Join us March 31\, 2023 at 8pm as some of the best singer-songwriters around share their original songs inspired by Jenny’s haikus. Tickets $10 HERE.
URL:https://ashleyandsimpson.com/event/ashley-simpson-at-golden-dagger-with-haiku-milieu/
LOCATION:Golden Dagger\, 2447 N Halsted\, Chicago\, IL\, United States
ATTACH;FMTTYPE=image/jpeg:https://ashleyandsimpson.com/wp-content/uploads/2023/03/033123_Golden-Dagger-e1678987567116.jpg
END:VEVENT
BEGIN:VEVENT
DTSTART;TZID=UTC:20230321T070000
DTEND;TZID=UTC:20230321T070000
DTSTAMP:20260423T074454
CREATED:20230316T183202Z
LAST-MODIFIED:20230316T195415Z
UID:2291-1679382000-1679382000@ashleyandsimpson.com
SUMMARY:Ashley & Simpson with Jenny Bienemann's Songwriter Circle at Fitzgerald's Side Bar
DESCRIPTION:We are thrilled to be joining Andrew Calhoun for Jenny Bienemann’s Songwriter Circle! Join us at Fitzgerald’s Side Bar Tuesday\, March 21\, 2023 at 7pm for some live music! Doors open at 5.  More info HERE.
URL:https://ashleyandsimpson.com/event/ashley-simpson-jenny-bienemanns-songwriter-circle-at-fitzgeralds-side-bar/
LOCATION:FitzGerald’s SideBar\, 6615 Roosevelt Rd.\, Berwyn\, IL\, 60521
ATTACH;FMTTYPE=image/jpeg:https://ashleyandsimpson.com/wp-content/uploads/2023/03/032123_Fitzgeralds-e1678987075911.jpg
END:VEVENT
BEGIN:VEVENT
DTSTART;TZID=UTC:20230222T190000
DTEND;TZID=UTC:20230222T220000
DTSTAMP:20260423T074454
CREATED:20230214T185129Z
LAST-MODIFIED:20230214T185251Z
UID:2175-1677092400-1677103200@ashleyandsimpson.com
SUMMARY:Ashley & Simpson with Acoustic Neighbors/Music and Potlucks
DESCRIPTION:Wednesday\, February 22 • 7:00 pm central • 8:00 pm eastern • Acoustic Neighbors returns! • Featured musical & spoken-word performances by Ashley & Simpson\, Bonnie Bell\, Belinda Fuller\, Jim Reeder and Tony Willis • The event is FREE & presented by Music & Potlucks a 501(c)(3) non-profit organization supporting our neighbors in need\nHere is the link to register for this Zoom concert:\nhttps://secure.lglforms.com/form…/s/yvs0_3dKdWZ7vHfb1n8NNQ
URL:https://ashleyandsimpson.com/event/ashley-simpson-with-acoustic-neighbors-music-and-potlucks/
LOCATION:IL
ATTACH;FMTTYPE=image/jpeg:https://ashleyandsimpson.com/wp-content/uploads/2023/02/Artboard-1-100-e1676398627113.jpg
END:VEVENT
BEGIN:VEVENT
DTSTART;TZID=UTC:20230218T193000
DTEND;TZID=UTC:20230218T213000
DTSTAMP:20260423T074454
CREATED:20230112T194216Z
LAST-MODIFIED:20230112T194216Z
UID:2144-1676748600-1676755800@ashleyandsimpson.com
SUMMARY:Ashley & Simpson at Maple Street Concerts
DESCRIPTION:02/18/23 – Maple Street Concerts\nAshley & Simpson are thrilled to be performing at beautiful Maple Street Chapel in Lombard\, IL as part of the treasured Maple Street Concerts.  Tickets are $20 and can be purchased here.
URL:https://ashleyandsimpson.com/event/ashley-simpson-at-maple-street-concerts/
LOCATION:Maple Street Chapel\, 220 S. Main Street\, Lombard\, IL\, 60148\, United States
ATTACH;FMTTYPE=image/jpeg:https://ashleyandsimpson.com/wp-content/uploads/2023/01/Ashley-Simpson_021823.jpg
END:VEVENT
BEGIN:VEVENT
DTSTART;TZID=UTC:20230129T160000
DTEND;TZID=UTC:20230129T180000
DTSTAMP:20260423T074454
CREATED:20230112T193954Z
LAST-MODIFIED:20230112T194438Z
UID:2142-1675008000-1675015200@ashleyandsimpson.com
SUMMARY:Ashley & Simpson with February Sky
DESCRIPTION:01/29/23 – “Time\, Tides and Waiting” with February Sky\nAshley & Simpson join Phil Cooper and Susan Cooper of February Sky for an online round-robin concert via Zoom on Sunday\, January 29th at 4pm (CST). Click here to register for the event.  Zoom room will open 30 minutes before showtime\, so come and chat with us!  Learn more about February Sky here.
URL:https://ashleyandsimpson.com/event/ashley-simpson-with-february-sky/
LOCATION:IL
ATTACH;FMTTYPE=image/jpeg:https://ashleyandsimpson.com/wp-content/uploads/2023/01/Inscape-Collective_011423_JPG-01.jpg
END:VEVENT
BEGIN:VEVENT
DTSTART;TZID=UTC:20230127T200000
DTEND;TZID=UTC:20230127T220000
DTSTAMP:20260423T074454
CREATED:20230112T193817Z
LAST-MODIFIED:20230112T194319Z
UID:2139-1674849600-1674856800@ashleyandsimpson.com
SUMMARY:Ashley & Simpson at Fifth Province
DESCRIPTION:Come have a pint with Ashley & Simpson on January 27th at 8pm at the Fifth Province Pub!  Located at the Irish American Heritage Center.  Come on down for a fun night!
URL:https://ashleyandsimpson.com/event/ashley-simpson-at-fifth-province/
LOCATION:Fifth Province\, 4626 N Knox Ave\, Chicago\, IL\, 60630\, United States
ATTACH;FMTTYPE=image/jpeg:https://ashleyandsimpson.com/wp-content/uploads/2023/01/Fifth-Provence_012823-01-scaled.jpg
END:VEVENT
BEGIN:VEVENT
DTSTART;TZID=UTC:20230114T190000
DTEND;TZID=UTC:20230114T210000
DTSTAMP:20260423T074454
CREATED:20230112T193510Z
LAST-MODIFIED:20230112T194256Z
UID:2136-1673722800-1673730000@ashleyandsimpson.com
SUMMARY:Ashley & Simpson at Inscape Listening Room
DESCRIPTION:01/14/23 – Inscape Listening Room\nJoin Ashley & Simpson at the Inscape Listening Room in Rockford\, IL at 7pm on Saturday\, January 14\, 2023. Doors open at 6:00pm so you can arrive early\, claim your seat\, and shop the wonderful merchandise. The store will also remain open after the concert – until 9:00pm.
URL:https://ashleyandsimpson.com/event/ashley-simpson-at-inscape-listening-room/
LOCATION:Inscape Collective\, 201 7th Street\, Rockford\, IL\, 61104\, United States
ATTACH;FMTTYPE=image/jpeg:https://ashleyandsimpson.com/wp-content/uploads/2023/01/Inscape-Collective_011423-01.jpg
END:VEVENT
END:VCALENDAR