BEGIN:VCALENDAR
VERSION:2.0
PRODID:-// - ECPv6.15.20//NONSGML v1.0//EN
CALSCALE:GREGORIAN
METHOD:PUBLISH
X-ORIGINAL-URL:https://ashleyandsimpson.com
X-WR-CALDESC:Events for 
REFRESH-INTERVAL;VALUE=DURATION:PT1H
X-Robots-Tag:noindex
X-PUBLISHED-TTL:PT1H
BEGIN:VTIMEZONE
TZID:America/New_York
BEGIN:DAYLIGHT
TZOFFSETFROM:-0500
TZOFFSETTO:-0400
TZNAME:EDT
DTSTART:20250309T070000
END:DAYLIGHT
BEGIN:STANDARD
TZOFFSETFROM:-0400
TZOFFSETTO:-0500
TZNAME:EST
DTSTART:20251102T060000
END:STANDARD
BEGIN:DAYLIGHT
TZOFFSETFROM:-0500
TZOFFSETTO:-0400
TZNAME:EDT
DTSTART:20260308T070000
END:DAYLIGHT
BEGIN:STANDARD
TZOFFSETFROM:-0400
TZOFFSETTO:-0500
TZNAME:EST
DTSTART:20261101T060000
END:STANDARD
BEGIN:DAYLIGHT
TZOFFSETFROM:-0500
TZOFFSETTO:-0400
TZNAME:EDT
DTSTART:20270314T070000
END:DAYLIGHT
BEGIN:STANDARD
TZOFFSETFROM:-0400
TZOFFSETTO:-0500
TZNAME:EST
DTSTART:20271107T060000
END:STANDARD
END:VTIMEZONE
BEGIN:VTIMEZONE
TZID:America/Chicago
BEGIN:DAYLIGHT
TZOFFSETFROM:-0600
TZOFFSETTO:-0500
TZNAME:CDT
DTSTART:20250309T080000
END:DAYLIGHT
BEGIN:STANDARD
TZOFFSETFROM:-0500
TZOFFSETTO:-0600
TZNAME:CST
DTSTART:20251102T070000
END:STANDARD
BEGIN:DAYLIGHT
TZOFFSETFROM:-0600
TZOFFSETTO:-0500
TZNAME:CDT
DTSTART:20260308T080000
END:DAYLIGHT
BEGIN:STANDARD
TZOFFSETFROM:-0500
TZOFFSETTO:-0600
TZNAME:CST
DTSTART:20261101T070000
END:STANDARD
BEGIN:DAYLIGHT
TZOFFSETFROM:-0600
TZOFFSETTO:-0500
TZNAME:CDT
DTSTART:20270314T080000
END:DAYLIGHT
BEGIN:STANDARD
TZOFFSETFROM:-0500
TZOFFSETTO:-0600
TZNAME:CST
DTSTART:20271107T070000
END:STANDARD
END:VTIMEZONE
BEGIN:VEVENT
DTSTART;TZID=America/New_York:20260426T160000
DTEND;TZID=America/New_York:20260426T180000
DTSTAMP:20260423T115501
CREATED:20260421T215108Z
LAST-MODIFIED:20260421T215108Z
UID:2604-1777219200-1777226400@ashleyandsimpson.com
SUMMARY:Ashley & Simpson with February Sky
DESCRIPTION:
URL:https://ashleyandsimpson.com/event/ashley-simpson-with-february-sky-2/
LOCATION:IL
ATTACH;FMTTYPE=image/jpeg:https://ashleyandsimpson.com/wp-content/uploads/2026/04/671911182_1650426719798879_4328645882109458209_n.jpg
END:VEVENT
BEGIN:VEVENT
DTSTART;TZID=America/Chicago:20260517T150000
DTEND;TZID=America/Chicago:20260517T170000
DTSTAMP:20260423T115501
CREATED:20260421T233438Z
LAST-MODIFIED:20260421T233438Z
UID:2609-1779030000-1779037200@ashleyandsimpson.com
SUMMARY:Ashley & Simpson at Tunes & Tales
DESCRIPTION:
URL:https://ashleyandsimpson.com/event/ashley-simpson-at-tunes-tales/
LOCATION:Two Way Street Coffee House\, 1047 Curtiss St.\, Downers Grove\, IL\, 60515
ATTACH;FMTTYPE=image/png:https://ashleyandsimpson.com/wp-content/uploads/2026/04/TNT_051726.png
END:VEVENT
BEGIN:VEVENT
DTSTART;TZID=America/Chicago:20260719T120000
DTEND;TZID=America/Chicago:20260719T180000
DTSTAMP:20260423T115501
CREATED:20260421T215753Z
LAST-MODIFIED:20260421T215753Z
UID:2606-1784462400-1784484000@ashleyandsimpson.com
SUMMARY:Ashley & Simpson at Woodstock Folk Festival
DESCRIPTION:
URL:https://ashleyandsimpson.com/event/ashley-simpson-at-woodstock-folk-festival/
LOCATION:Woodstock Square\, 121 W Van Buren St\, Woodstock\, IL\, 60098\, United States
ATTACH;FMTTYPE=image/png:https://ashleyandsimpson.com/wp-content/uploads/2026/04/Woodstock_071926.png
END:VEVENT
END:VCALENDAR